BEGIN:VCALENDAR
VERSION:2.0
PRODID:-//Peterswald-L&ouml;ffelscheid - ECPv6.15.20//NONSGML v1.0//EN
CALSCALE:GREGORIAN
METHOD:PUBLISH
X-ORIGINAL-URL:https://peterswald-loeffelscheid.de
X-WR-CALDESC:Veranstaltungen für Peterswald-L&ouml;ffelscheid
REFRESH-INTERVAL;VALUE=DURATION:PT1H
X-Robots-Tag:noindex
X-PUBLISHED-TTL:PT1H
BEGIN:VTIMEZONE
TZID:UTC
BEGIN:STANDARD
TZOFFSETFROM:+0000
TZOFFSETTO:+0000
TZNAME:UTC
DTSTART:20240101T000000
END:STANDARD
END:VTIMEZONE
BEGIN:VEVENT
DTSTART;TZID=UTC:20251213T000000
DTEND;TZID=UTC:20251213T235959
DTSTAMP:20260424T070654
CREATED:20251113T132220Z
LAST-MODIFIED:20251113T164935Z
UID:134-1765584000-1765670399@peterswald-loeffelscheid.de
SUMMARY:Adventszauber
DESCRIPTION:Der Nikolaus kommt vorbei – und jedes Kind bis 10 Jahre bekommt eine Tüte! Die Anmeldung ist per Mail bis zum 23.11.25 möglich. \nFreut euch auf einen stimmungsvollen Nachmittag mit Lichtern\, Leckereien und festlicher Stimmung. \nWer einen Stand machen möchte\, darf sich ab sofort bei uns melden! \nffw_peterswald@web.de
URL:https://peterswald-loeffelscheid.de/event/adventszauber/
LOCATION:Feuerwehrhaus Peterswald
ATTACH;FMTTYPE=image/jpeg:https://peterswald-loeffelscheid.de/wp-content/uploads/2025/11/WhatsApp-Image-2025-10-26-at-13.11.06.jpeg
ORGANIZER;CN="Feuerwehr":MAILTO:ffw_peterswald@web.de
END:VEVENT
BEGIN:VEVENT
DTSTART;TZID=UTC:20251231T000000
DTEND;TZID=UTC:20251231T235959
DTSTAMP:20260424T070654
CREATED:20251113T132713Z
LAST-MODIFIED:20251113T132713Z
UID:139-1767139200-1767225599@peterswald-loeffelscheid.de
SUMMARY:Silvesterparty 2.0
DESCRIPTION:Nach dem grossartigen Erfolg im letzten Jahr geht unsere Silvesterparty in die zweite Runde – dank Eurer tollen Teilnahme und Stimmung! 🎊 \nFeiert mit uns gemeinsam den Jahreswechsel in entspannter und fröhlicher Atmosphäre.🍾 \nWann: 31. Dezember 2025 ab ca. 20:00 Uhr\nWo: Backes Peterswald\nEssen: Finger Food Platten🥘\, Dips und Baguette 🥖\nGetränke: Bier\, Sekt\, Alkoholfreies 🥂🍻\nEintritt: ca. 30\,- € \nAnmeldungen sind erbeten bis zum 08.11.2025 bei Juli oder Jenny – damit wir besser planen können.📝 \nEine kleine Bitte: lasst uns die wenige Arbeit gemeinsam aufteilen und erledigen\, damit die Vorbereitungen bzw. die Aufräumarbeiten für alle entspannt bleiben.🧑‍🧑‍🧒‍🧒 \nIn diesem Sinne: lasst uns gemeinsam das neue Jahr begrüßen – bei guter Musik\, tollen Leuten und jeder Menge Spaß!💃🏼 \nWir freuen uns auf Euch!\nJuli & Jenny
URL:https://peterswald-loeffelscheid.de/event/silvesterparty-2-0/
LOCATION:Backes Peterswald\, Am Backhaus 1\, Peterswald
END:VEVENT
END:VCALENDAR